0.406417082588248160
-0.000905358523587365940
-0.000796189886090446450
-0.406524504258753420
641749.01763979741
4498180.2971402174
