0.406234989085672630
-0.000637426178989083070
-0.000598478122712768060
-0.406356676253559700
639755.75788605690
4532170.5779743474
