0.406269164351095670
-0.000121755172561377220
-0.0000298480903117406360
-0.406427356314917780
639753.99372225243
4506172.9685437828
