0.406341651199258520
-0.0000741344006125053460
0.00000766506235762747630
-0.406412429482252480
639756.97479228396
4504173.5073864944
