0.406279710425776100
-0.000428447867164185120
-0.000377691358289623870
-0.406481454677552760
639754.70277624205
4502174.8713450329
