0.406356221174086210
-0.00000564741024801881620
0.0000892660433831501490
-0.406505697348010290
639754.12129678659
4500172.7510103388
