0.406412987791743900
-0.000367012684098652460
-0.000135403191542546640
-0.406590859637636360
637759.58687167685
4532176.7990724426
