0.406308288393814780
-0.000494261731612059420
-0.000415846222624876750
-0.406266525223308140
637750.68365834607
4530173.6913151937
