0.406374538047466650
-0.000931912291115298550
-0.000828058932760296420
-0.406433522463167720
637745.97557070293
4528172.2937731100
