0.406370571355967880
-0.000386520067300511420
-0.000204279928666043020
-0.406604676853822070
637761.47174513841
4506172.9066918390
