0.406352476093173930
-0.0000553633809857896200
0.0000510072634627230550
-0.406346307440993200
637770.65414104657
4504172.4762602961
