0.406306922962350710
-0.00133113060949843590
-0.00134553782873001530
-0.406360572458871250
637757.48459619668
4502177.9313307991
