0.406324845141176120
-0.0000607351620781306340
-0.0000292345399692213960
-0.406320777611061220
637762.77197711309
4500169.9907338619
