0.406402674781496940
0.000437839512217069850
0.000477466379755839470
-0.406503770311356430
635765.40451446560
4534170.1446061460
