0.406308617958115850
-0.000113741402234410910
-0.000115424495101328900
-0.406548061930454340
635752.26052308152
4532176.9304584106
