0.406379920012708340
-0.000812360819495186050
-0.000662939556094284310
-0.406552745280719440
635739.90132394503
4530176.5167189278
