0.406386522595025950
-0.000961534650033644420
-0.000823554169990057830
-0.406625792418306930
635782.90842503798
4528174.5268196445
