0.406323450733258480
-0.000740895320397218940
-0.000629319830542215330
-0.406638948741127330
635753.19257177878
4504175.1932520373
