0.406261058674468270
-0.00104424244966380610
-0.00105228100700316580
-0.406366072665234450
635767.02863271476
4502177.1037487686
