0.406328014159770380
-0.0000612501795358827410
0.0000410997928685302980
-0.406455279729688590
635783.45954734366
4500175.5552746607
