0.406259227034807320
-0.000556628147592514040
-0.000578026769204523470
-0.406646884264090010
635764.00355068548
4498172.5535726063
