0.406523594050560820
0.000238090949173930530
0.000299939535203971570
-0.406365049028616700
633747.23801893031
4536169.8681503227
