0.406478096086871410
0.000706921953202767590
0.000830765844433419260
-0.406337542422017580
633758.90265480697
4534170.3985172445
