0.406506733810177210
0.000363761012387971280
0.000493972324542322560
-0.406330774656163680
633771.14427641127
4532171.7174568754
