0.406553961369024610
-0.0000463354312718066610
0.000292314085978231810
-0.406390817704428420
633783.50196993176
4530173.4384807944
