0.406295133725918240
0.00000707779416366389290
0.000165361357432087280
-0.406551365628121720
633771.10614576808
4504170.2951710951
