0.406298688120915850
0.000516549154959301950
0.000699849775266080390
-0.406558985539841930
633784.89173346641
4502171.0089794835
