0.406381424364264610
-0.000289293674490505860
-0.0000900778996006169790
-0.406424165477026590
633784.06739388197
4500174.1887753317
