0.406219868693407370
0.0000197999668742102810
0.000202693346237357350
-0.406227341937988930
633768.17609643878
4498171.6173942937
