0.406562780476428300
-0.000478861116141822960
-0.000296649200663070860
-0.406484769890475050
631784.00639834790
4532172.6163758496
