0.406377308537672180
-0.0000857894304978025140
-0.0000958137547504061610
-0.406499309017044510
631765.62640395865
4530180.0914570699
