0.406352434592785920
-0.0000749013768788839560
-0.0000601032035145000560
-0.406447363846497710
631750.68613736308
4528177.6460329480
