0.406279580331585340
-0.000293730909481926590
-0.0000612008576068441660
-0.406514125206830720
631763.42985937314
4504170.8138575312
