0.406294620805448760
0.00116980763369783480
0.00140089530362434990
-0.406444538466783250
631787.65775529598
4502171.1753409440
