0.406367939751316350
-0.000369499854296287700
-0.000144063328138044990
-0.406405649303156590
631756.18885256536
4500175.4931910550
