0.406338728466477340
-0.000560540399135476940
-0.000292020360660385490
-0.406488098778275190
631764.49426958303
4498174.9561726181
