0.406529075893335700
0.000157036671066724860
0.000314772847834302060
-0.406520757831180520
629758.91284092783
4534172.0114684226
