0.406396739983438450
-0.00111907444418661940
-0.000966991820232874400
-0.406458570993951270
629769.43033823371
4532177.4268091219
