0.406359831787988570
-0.0000138847722999373970
0.0000167882461050121860
-0.406484728384693350
629761.33255245967
4530179.8556864131
