0.406481969369666070
0.000682609648755835660
0.000893140945012066490
-0.406393268531041960
627782.62022702303
4534169.0153883379
