0.406569739906013580
-0.000264018138280290520
-0.0000234439550819670270
-0.406577750227088920
627762.25245532929
4532179.1479592184
