0.406486088946295400
-0.00118836562389909300
-0.00110724113236729480
-0.406441431450568270
627782.47937505704
4530178.8847164633
