0.406518296859388890
-0.000459028114540940800
-0.000274373766144624690
-0.406415040097127870
627784.26467027224
4528172.8715896141
