0.406595693126992010
-0.0000354156871576208150
0.0000226584635201857610
-0.406559718415258010
627784.69527804223
4526171.9800950708
