0.406600662213371160
-0.000191520232147533790
-0.0000246992424108652920
-0.406290491541527020
627779.36496572068
4524172.5549033955
