0.406578537974087050
0.00217954033933610930
0.00231686770680659790
-0.406505287016939940
625750.15869871574
4534170.9776562164
