0.406516469695425430
-0.000654462821042260620
-0.000578225628838887460
-0.406339036950206230
625782.44663158571
4532172.8968390981
