0.406549365387018640
0.0000886764325493243640
0.000197947704942511400
-0.406497805595802840
625784.25052195170
4530170.0012498274
