0.406586980592035070
-0.000318296847748950710
-0.000206260704968506850
-0.406451481922164290
625784.69575686136
4528170.5089848386
