0.406669748058193730
-0.000192763566586882100
-0.0000863971560679228330
-0.406331072380527570
625783.52440662135
4526170.9686962096
